Workbook

Sheet Cumplimentación
B3: INSTRUCCIONES
A5: 1 | B5: No hace falta rellenar nada en las hojas con la pestaña amarilla (Hoja 1 y Hoja 2), ya que se autorellenan
A7: 2 | B7: En el resto de Hojas ("Inversiones; Plan de Financiación" y "Resultados") solo hay que rellenar las casillas de color AZUL, el resto de casillas se autorellenan
A9: 3 | B9: Los cuadros que deben pasarse al Plan de Empresa son los que se desarrollan en las hojas "Inversiones", "Plan de Financiación" y "Resultados"
A11: 4 | B11: Los datos de la Hoja "Resultados" hay que trasladarlos también al apartado 8 "Cuenta de resultados provisional" de la Memoria Descriptiva
B15: CUMPLIMENTAR EN ESTA HOJA LAS CASILLAS AZULES
A17: 1 | B17: Indicar el tipo de IVA de la Inversión | C17: 0.21
A19: 2 | B19: Indicar Importe de la financiación a solicitar
B21: Indicar tipo de interés de la financiación a solicitar
B23: Indicar plazo de amortización del préstamo (años)
B25: Indicar el % Impuesto Sociedades, retención IRPF…

Sheet Hoja1
B3: Amortización contable | E3: 1º año | F3: 2º año | G3: 3º año | H3: 4º año | I3: 5º año
B4: ELEMENTO | C4: BASE | D4: %
B5: Construcciones | C5: =+Inversiones!D3+Inversiones!D4+Inversiones!D5+Inversiones!D9 -> 0 | D5: 0.05 | E5: =+$C$5*$D$5 -> 0 | F5: =+$C$5*$D$5 -> 0 | G5: =+$C$5*$D$5 -> 0 | H5: =+$C$5*$D$5 -> 0 | I5: =+$C$5*$D$5 -> 0
B6: Instalaciones Técnicas | C6: =+Inversiones!D6 -> 0 | D6: 0.15 | E6: =+$C$6*$D$6 -> 0 | F6: =+$C$6*$D$6 -> 0 | G6: =+$C$6*$D$6 -> 0 | H6: =+$C$6*$D$6 -> 0 | I6: =+$C$6*$D$6 -> 0
B7: Maquinaria e instalación | C7: =+Inversiones!D7+Inversiones!D8 -> 0 | D7: 0.15 | E7: =+$C$7*$D$7 -> 0 | F7: =+$C$7*$D$7 -> 0 | G7: =+$C$7*$D$7 -> 0 | H7: =+$C$7*$D$7 -> 0 | I7: =+$C$7*$D$7 -> 0
B8: Mobiliario | C8: 0 | D8: 0.15 | E8: =+$C$8*$D$8 -> 0 | F8: =+$C$8*$D$8 -> 0 | G8: =+$C$8*$D$8 -> 0 | H8: =+$C$8*$D$8 -> 0 | I8: =+$C$8*$D$8 -> 0
B9: Aplicaciones informáticas | C9: =Inversiones!D13 -> 0 | D9: 0.25 | E9: =+$C$9*$D$9 -> 0 | F9: =+$C$9*$D$9 -> 0 | G9: =+$C$9*$D$9 -> 0 | H9: =+$C$9*$D$9 -> 0 | I9: 0
B10: TOTAL IMPORTES | E10: =SUM(E5:E9) -> 0 | F10: =SUM(F5:F9) -> 0 | G10: =SUM(G5:G9) -> 0 | H10: =SUM(H5:H9) -> 0 | I10: =SUM(I5:I9) -> 0

Sheet Hoja2
C4: CUADRO DE AMORTIZACIÓN
C5: Capital inicial: | E5: =+Cumplimentación!C19 -> 0
C6: Tipo de interés nominal: | E6: =+Cumplimentación!C21 -> 0
C7: Plazo: | E7: =+Cumplimentación!C23 -> 0
C8: Periodicidad anual: | E8: 1
C9: Comisión de apertura: | E9: 0 | F9: =+E5*E9 -> 0
C10: Comisión de gestión: | E10: 0
C11: Gastos fijos bancarios: | E11: 0
C12: Gastos adicionales: | E12: 0
C13: Comisión de cancelación anticipada | E13: 0
C14: Cuota mensual | E14: =+D19
C15: Prepagable (1) o pospagable (0) | D15: 1
C17: Periodos de pago | D17: Cuota | E17: Pago de intereses | F17: Amortización del principal | H17: Amortización acumulada del principal | I17: Capital pendiente
C18: 0 | I18: =E5 -> 0
C19: =IF(C18<$E$7*$E$8,C18+1,"") | D19: =IF(C19="","",-PMT($E$6/$E$8,$E$7*$E$8,$E$5,,$D$15)) | E19: =IF(C19="","",$E$6/$E$8*I18) | F19: =IF(C19="","",D19-E19) | H19: =IF(C19="","",F19+H18) | I19: =IF(C19="","",$I$18-H19)
C20: =IF(C19<$E$7*$E$8,C19+1,"") | D20: =IF(C20="","",-PMT($E$6/$E$8,$E$7*$E$8,$E$5,,$D$15)) | E20: =IF(C20="","",$E$6/$E$8*I19) | F20: =IF(C20="","",D20-E20) | H20: =IF(C20="","",F20+H19) | I20: =IF(C20="","",$I$18-H20)
C21: =IF(C20<$E$7*$E$8,C20+1,"") | D21: =IF(C21="","",-PMT($E$6/$E$8,$E$7*$E$8,$E$5,,$D$15)) | E21: =IF(C21="","",$E$6/$E$8*I20) | F21: =IF(C21="","",D21-E21) | H21: =IF(C21="","",F21+H20) | I21: =IF(C21="","",$I$18-H21)
C22: =IF(C21<$E$7*$E$8,C21+1,"") | D22: =IF(C22="","",-PMT($E$6/$E$8,$E$7*$E$8,$E$5,,$D$15)) | E22: =IF(C22="","",$E$6/$E$8*I21) | F22: =IF(C22="","",D22-E22) | H22: =IF(C22="","",F22+H21) | I22: =IF(C22="","",$I$18-H22)
C23: =IF(C22<$E$7*$E$8,C22+1,"") | D23: =IF(C23="","",-PMT($E$6/$E$8,$E$7*$E$8,$E$5,,$D$15)) | E23: =IF(C23="","",$E$6/$E$8*I22) | F23: =IF(C23="","",D23-E23) | H23: =IF(C23="","",F23+H22) | I23: =IF(C23="","",$I$18-H23)
C24: =IF(C23<$E$7*$E$8,C23+1,"") | D24: =IF(C24="","",-PMT($E$6/$E$8,$E$7*$E$8,$E$5,,$D$15)) | E24: =IF(C24="","",$E$6/$E$8*I23) | F24: =IF(C24="","",D24-E24) | H24: =IF(C24="","",F24+H23) | I24: =IF(C24="","",$I$18-H24)
C25: =IF(C24<$E$7*$E$8,C24+1,"") | D25: =IF(C25="","",-PMT($E$6/$E$8,$E$7*$E$8,$E$5,,$D$15)) | E25: =IF(C25="","",$E$6/$E$8*I24) | F25: =IF(C25="","",D25-E25) | H25: =IF(C25="","",F25+H24) | I25: =IF(C25="","",$I$18-H25)
C26: =IF(C25<$E$7*$E$8,C25+1,"") | D26: =IF(C26="","",-PMT($E$6/$E$8,$E$7*$E$8,$E$5,,$D$15)) | E26: =IF(C26="","",$E$6/$E$8*I25) | F26: =IF(C26="","",D26-E26) | H26: =IF(C26="","",F26+H25) | I26: =IF(C26="","",$I$18-H26)
C27: =IF(C26<$E$7*$E$8,C26+1,"") | D27: =IF(C27="","",-PMT($E$6/$E$8,$E$7*$E$8,$E$5,,$D$15)) | E27: =IF(C27="","",$E$6/$E$8*I26) | F27: =IF(C27="","",D27-E27) | H27: =IF(C27="","",F27+H26) | I27: =IF(C27="","",$I$18-H27)
C28: =IF(C27<$E$7*$E$8,C27+1,"") | D28: =IF(C28="","",-PMT($E$6/$E$8,$E$7*$E$8,$E$5,,$D$15)) | E28: =IF(C28="","",$E$6/$E$8*I27) | F28: =IF(C28="","",D28-E28) | H28: =IF(C28="","",F28+H27) | I28: =IF(C28="","",$I$18-H28)
C29: =IF(C28<$E$7*$E$8,C28+1,"") | D29: =IF(C29="","",-PMT($E$6/$E$8,$E$7*$E$8,$E$5,,$D$15)) | E29: =IF(C29="","",$E$6/$E$8*I28) | F29: =IF(C29="","",D29-E29) | H29: =IF(C29="","",F29+H28) | I29: =IF(C29="","",$I$18-H29)
C30: =IF(C29<$E$7*$E$8,C29+1,"") | D30: =IF(C30="","",-PMT($E$6/$E$8,$E$7*$E$8,$E$5,,$D$15)) | E30: =IF(C30="","",$E$6/$E$8*I29) | F30: =IF(C30="","",D30-E30) | H30: =IF(C30="","",F30+H29) | I30: =IF(C30="","",$I$18-H30)
... C42: =IF(C41<$E$7*$E$8,C41+1,"") | D42: =IF(C42="","",-PMT($E$6/$E$8,$E$7*$E$8,$E$5,,$D$15)) | E42: =IF(C42="","",$E$6/$E$8*I41) | F42: =IF(C42="","",D42-E42) | H42: =IF(C42="","",F42+H41) | I42: =IF(C42="","",$I$18-H42)
C43: =IF(C42<$E$7*$E$8,C42+1,"") | D43: =IF(C43<=$E$7*$E$8,-PMT($E$6/$E$8,$E$7*$E$8,$E$5,,$D$15),"") | E43: =IF(C43<=$E$7*$E$8,-IPMT($E$6/$E$8,C43,$E$7*$E$8,$E$5,,$D$15),"") | F43: =IF(C43<=$E$7*$E$8,-PPMT($E$6/$E$8,C43,$E$7*$E$8,$E$5,,$D$15),"") | H43: =IF(C43<=$E$7*$E$8,SUM($F$19:F43),"") | I43: =IF(C43<=$E$7*$E$8,$E$5-H43,"")
C44: =IF(C43<$E$7*$E$8,C43+1,"") | D44: =IF(C44<=$E$7*$E$8,-PMT($E$6/$E$8,$E$7*$E$8,$E$5,,$D$15),"") | E44: =IF(C44<=$E$7*$E$8,-IPMT($E$6/$E$8,C44,$E$7*$E$8,$E$5,,$D$15),"") | F44: =IF(C44<=$E$7*$E$8,-PPMT($E$6/$E$8,C44,$E$7*$E$8,$E$5,,$D$15),"") | H44: =IF(C44<=$E$7*$E$8,SUM($F$19:F44),"") | I44: =IF(C44<=$E$7*$E$8,$E$5-H44,"")
C45: =IF(C44<$E$7*$E$8,C44+1,"") | D45: =IF(C45<=$E$7*$E$8,-PMT($E$6/$E$8,$E$7*$E$8,$E$5,,$D$15),"") | E45: =IF(C45<=$E$7*$E$8,-IPMT($E$6/$E$8,C45,$E$7*$E$8,$E$5,,$D$15),"") | F45: =IF(C45<=$E$7*$E$8,-PPMT($E$6/$E$8,C45,$E$7*$E$8,$E$5,,$D$15),"") | H45: =IF(C45<=$E$7*$E$8,SUM($F$19:F45),"") | I45: =IF(C45<=$E$7*$E$8,$E$5-H45,"")
C46: =IF(C45<$E$7*$E$8,C45+1,"") | D46: =IF(C46<=$E$7*$E$8,-PMT($E$6/$E$8,$E$7*$E$8,$E$5,,$D$15),"") | E46: =IF(C46<=$E$7*$E$8,-IPMT($E$6/$E$8,C46,$E$7*$E$8,$E$5,,$D$15),"") | F46: =IF(C46<=$E$7*$E$8,-PPMT($E$6/$E$8,C46,$E$7*$E$8,$E$5,,$D$15),"") | H46: =IF(C46<=$E$7*$E$8,SUM($F$19:F46),"") | I46: =IF(C46<=$E$7*$E$8,$E$5-H46,"")
C47: =IF(C46<$E$7*$E$8,C46+1,"") | D47: =IF(C47<=$E$7*$E$8,-PMT($E$6/$E$8,$E$7*$E$8,$E$5,,$D$15),"") | E47: =IF(C47<=$E$7*$E$8,-IPMT($E$6/$E$8,C47,$E$7*$E$8,$E$5,,$D$15),"") | F47: =IF(C47<=$E$7*$E$8,-PPMT($E$6/$E$8,C47,$E$7*$E$8,$E$5,,$D$15),"") | H47: =IF(C47<=$E$7*$E$8,SUM($F$19:F47),"") | I47: =IF(C47<=$E$7*$E$8,$E$5-H47,"")
C48: =IF(C47<$E$7*$E$8,C47+1,"") | D48: =IF(C48<=$E$7*$E$8,-PMT($E$6/$E$8,$E$7*$E$8,$E$5,,$D$15),"") | E48: =IF(C48<=$E$7*$E$8,-IPMT($E$6/$E$8,C48,$E$7*$E$8,$E$5,,$D$15),"") | F48: =IF(C48<=$E$7*$E$8,-PPMT($E$6/$E$8,C48,$E$7*$E$8,$E$5,,$D$15),"") | H48: =IF(C48<=$E$7*$E$8,SUM($F$19:F48),"") | I48: =IF(C48<=$E$7*$E$8,$E$5-H48,"")
C49: =IF(C48<$E$7*$E$8,C48+1,"") | D49: =IF(C49<=$E$7*$E$8,-PMT($E$6/$E$8,$E$7*$E$8,$E$5,,$D$15),"") | E49: =IF(C49<=$E$7*$E$8,-IPMT($E$6/$E$8,C49,$E$7*$E$8,$E$5,,$D$15),"") | F49: =IF(C49<=$E$7*$E$8,-PPMT($E$6/$E$8,C49,$E$7*$E$8,$E$5,,$D$15),"") | H49: =IF(C49<=$E$7*$E$8,SUM($F$19:F49),"") | I49: =IF(C49<=$E$7*$E$8,$E$5-H49,"")
C50: =IF(C49<$E$7*$E$8,C49+1,"") | D50: =IF(C50<=$E$7*$E$8,-PMT($E$6/$E$8,$E$7*$E$8,$E$5,,$D$15),"") | E50: =IF(C50<=$E$7*$E$8,-IPMT($E$6/$E$8,C50,$E$7*$E$8,$E$5,,$D$15),"") | F50: =IF(C50<=$E$7*$E$8,-PPMT($E$6/$E$8,C50,$E$7*$E$8,$E$5,,$D$15),"") | H50: =IF(C50<=$E$7*$E$8,SUM($F$19:F50),"") | I50: =IF(C50<=$E$7*$E$8,$E$5-H50,"")
C51: =IF(C50<$E$7*$E$8,C50+1,"") | D51: =IF(C51<=$E$7*$E$8,-PMT($E$6/$E$8,$E$7*$E$8,$E$5,,$D$15),"") | E51: =IF(C51<=$E$7*$E$8,-IPMT($E$6/$E$8,C51,$E$7*$E$8,$E$5,,$D$15),"") | F51: =IF(C51<=$E$7*$E$8,-PPMT($E$6/$E$8,C51,$E$7*$E$8,$E$5,,$D$15),"") | H51: =IF(C51<=$E$7*$E$8,SUM($F$19:F51),"") | I51: =IF(C51<=$E$7*$E$8,$E$5-H51,"")
C52: =IF(C51<$E$7*$E$8,C51+1,"") | D52: =IF(C52<=$E$7*$E$8,-PMT($E$6/$E$8,$E$7*$E$8,$E$5,,$D$15),"") | E52: =IF(C52<=$E$7*$E$8,-IPMT($E$6/$E$8,C52,$E$7*$E$8,$E$5,,$D$15),"") | F52: =IF(C52<=$E$7*$E$8,-PPMT($E$6/$E$8,C52,$E$7*$E$8,$E$5,,$D$15),"") | H52: =IF(C52<=$E$7*$E$8,SUM($F$19:F52),"") | I52: =IF(C52<=$E$7*$E$8,$E$5-H52,"")
C53: =IF(C52<$E$7*$E$8,C52+1,"") | D53: =IF(C53<=$E$7*$E$8,-PMT($E$6/$E$8,$E$7*$E$8,$E$5,,$D$15),"") | E53: =IF(C53<=$E$7*$E$8,-IPMT($E$6/$E$8,C53,$E$7*$E$8,$E$5,,$D$15),"") | F53: =IF(C53<=$E$7*$E$8,-PPMT($E$6/$E$8,C53,$E$7*$E$8,$E$5,,$D$15),"") | H53: =IF(C53<=$E$7*$E$8,SUM($F$19:F53),"") | I53: =IF(C53<=$E$7*$E$8,$E$5-H53,"")
C54: =IF(C53<$E$7*$E$8,C53+1,"") | D54: =IF(C54<=$E$7*$E$8,-PMT($E$6/$E$8,$E$7*$E$8,$E$5,,$D$15),"") | E54: =IF(C54<=$E$7*$E$8,-IPMT($E$6/$E$8,C54,$E$7*$E$8,$E$5,,$D$15),"") | F54: =IF(C54<=$E$7*$E$8,-PPMT($E$6/$E$8,C54,$E$7*$E$8,$E$5,,$D$15),"") | H54: =IF(C54<=$E$7*$E$8,SUM($F$19:F54),"") | I54: =IF(C54<=$E$7*$E$8,$E$5-H54,"")
... C76: =IF(C75<$E$7*$E$8,C75+1,"") | D76: =IF(C76<=$E$7*$E$8,-PMT($E$6/$E$8,$E$7*$E$8,$E$5,,$D$15),"") | E76: =IF(C76<=$E$7*$E$8,-IPMT($E$6/$E$8,C76,$E$7*$E$8,$E$5,,$D$15),"") | F76: =IF(C76<=$E$7*$E$8,-PPMT($E$6/$E$8,C76,$E$7*$E$8,$E$5,,$D$15),"") | H76: =IF(C76<=$E$7*$E$8,SUM($F$19:F76),"") | I76: =IF(C76<=$E$7*$E$8,$E$5-H76,"")
...

Sheet Inversiones
A1: INVERSIONES Y GASTOS PARA LOS QUE SE SOLICITA AYUDA (*)
A2: Capítulo | B2: Concepto | C2: Importe total (€) | D2: Importe sin IVA (€)
A3: 0-Adquisición de bienes inmuebles | B3: Edificios | C3: =+D3+D3*Cumplimentación!$C$17 -> 0
A4: 1-Construcción o mejora de bienes inmuebles | B4: Construcción de edificios/infraestructuras | C4: =+D4+D4*Cumplimentación!$C$17 -> 0
B5: Rehabilitación de edificios/infraestructuras | C5: =+D5+D5*Cumplimentación!$C$17 -> 0
B6: Instalaciones | C6: =+D6+D6*Cumplimentación!$C$17 -> 0
A7: 2-Dotación de bienes de equipo | B7: Maquinaria y equipos | C7: =+D7+D7*Cumplimentación!$C$17 -> 0
B8: Instalaciones para maquinaria y equipos | C8: =+D8+D8*Cumplimentación!$C$17 -> 0
A9: 3-Costes generales | B9: Redacción de proyectos – dirección de obras | C9: =+D9+D9*Cumplimentación!$C$17 -> 0
B10: Análisis y ensayos | C10: =+D10+D10*Cumplimentación!$C$17 -> 0
B11: Ingeniería de montaje y operación | C11: =+D11+D11*Cumplimentación!$C$17 -> 0
B12: Licencias de obra, de actividad clasificada, de primera utilización y otras tasas municipales | C12: =+D12+D12*Cumplimentación!$C$17 -> 0
A13: 4-Inversiones intangibles | B13: Adquisición, desarrollo y licencias de programas informáticos | C13: =+D13+D13*Cumplimentación!$C$17 -> 0
A14: 5-Actividades formativas, de información, promoción y difusión | B14: Materiales divulgativos y su creación, alquiler de equipos y salas, brandings, caterings, | C14: =+D14+D14*Cumplimentación!$C$17 -> 0
A15: 6-Asistencias técnicas | B15: Contrataciones externas | C15: =+D15+D15*Cumplimentación!$C$17 -> 0
B16: Subcontrataciones externas (límite 20% presupuesto subvencinable total y cumplimiento de la base 8.3) | C16: =+D16+D16*Cumplimentación!$C$17 -> 0
A17: Total Importes | C17: =SUM(C3:C16) -> 0 | D17: =SUM(D3:D16) -> 0

Sheet Plan de financiación
A3: PLAN DE FINANCIACIÓN DEL PROYECTO (Información sobre las fuentes de financiación que se emplearán para ejecutar la actividad prevista)
A4: PARTICIPACIÓN FINANCIERA DE LA PERSONA SOLICITANTE | B4: IMPORTE (€) | C4: % SOBRE TOTAL
A5: FONDOS PROPIOS | C5: =+B5/$B$8 -> #DIV/0!
A6: PRÉSTAMOS Recursos Ajenos a Largo y a Medio Plazo | B6: =+Cumplimentación!C19 -> 0 | C6: =+B6/$B$8 -> #DIV/0!
A7: PRÉSTAMOS Recursos Ajenos a Corto Plazo | C7: =+B7/$B$8 -> #DIV/0!
A8: COSTE PRIVADO TOTAL: FONDOS PROPIOS + PRÉSTAMOS | B8: =SUM(B5:B7) -> 0 | C8: =SUM(C5:C7) -> #DIV/0!
A9: (*) Los fondos propios deben ser la participación financiera de la persona solicitante. Sin descontar ayudas o subvenciones al proyecto
A11: SUBVENCIONES
A12: AYUDA LEADER | C12: =+B12/$B$14 -> #DIV/0!
A13: OTRAS AYUDAS CONCEDIDAS (NO LEADER)* | C13: =+B13/$B$14 -> #DIV/0!
A14: TOTAL SUBVENCIONES | B14: =SUM(B12:B13) -> 0 | C14: =SUM(C12:C13) -> #DIV/0!

Sheet Resultados
A1: RESULTADOS DE EXPLOTACIÓN | D1: 1er Año | E1: 2º Año | F1: 3er Año | G1: 4º Año | H1: 5º Año
A2: Ingresos | B2: a) Ingresos por ventas o prestación de servicios
B3: b) Imputación de subvenciones de inmovilizado. | D3: =0 -> 0 | E3: =('Plan de financiación'!$B$12+'Plan de financiación'!$B$13)/5 -> 0 | F3: =('Plan de financiación'!$B$12+'Plan de financiación'!$B$13)/5 -> 0 | G3: =('Plan de financiación'!$B$12+'Plan de financiación'!$B$13)/5 -> 0 | H3: =('Plan de financiación'!$B$12+'Plan de financiación'!$B$13)/5 -> 0
B4: c) Otros Ingresos: | C4: Subvenciones de explotación
C5: Ingresos por arrendamientos
C6: Otros: ………………..
B7: 1- Total ingresos (a +b + c) | D7: =SUM(D2:D6) -> 0 | E7: =SUM(E2:E6) -> 0 | F7: =SUM(F2:F6) -> 0 | G7: =SUM(G2:G6) -> 0 | H7: =SUM(H2:H6) -> 0
A8: Gastos | B8: d) Aprovisiona-miento: | C8: Consumo de mercaderías
C9: Consumo de materias primas
C10: Otros:…………………….
B11: e) Gastos de Personal | C11: Sueldos y Salarios
C12: Cargas Sociales
C13: Otros: ……………………..
B14: f) Otros Gastos de Explotación | C14: Arrendamientos
C15: Reparaciones
C16: Servicios de profesionales independientes
C17: Seguros
C18: Transportes
C19: Publicidad
C20: Suministros
C21: Tributos
C22: Otros: …………………………
B23: g) Amortización del Inmovilizado | D23: =Hoja1!E10 -> 0 | E23: =Hoja1!F10 -> 0 | F23: =Hoja1!G10 -> 0 | G23: =Hoja1!H10 -> 0 | H23: =Hoja1!I10 -> 0
B24: 2- Total gastos (d+e+f+g) | D24: =SUM(D8:D23) -> 0 | E24: =SUM(E8:E23) -> 0 | F24: =SUM(F8:F23) -> 0 | G24: =SUM(G8:G23) -> 0 | H24: =SUM(H8:H23) -> 0
A25: VABpb (1)-(2)+(g) | D25: =D7-D24+D23 -> 0 | E25: =E7-E24+E23 -> 0 | F25: =F7-F24+F23 -> 0 | G25: =G7-G24+G23 -> 0 | H25: =H7-H24+H23 -> 0
A26: A- RESULTADO DE EXPLOTACION (1-2) | D26: =+D7-D24 -> 0 | E26: =+E7-E24 -> 0 | F26: =+F7-F24 -> 0 | G26: =+G7-G24 -> 0 | H26: =+H7-H24 -> 0
A27: RESULTADOS FINANCIEROS | D27: 1er Año | E27: 2º Año | F27: 3er Año | G27: 4º Año | H27: 5º Año
A28: Ingresos | B28: h) Intereses cuentas bancarias
B29: i) Otros ingresos financieros
B30: 3- Total ingresos (h+i) | D30: =D28+D29 -> 0 | E30: =E28+E29 -> 0 | F30: =F28+F29 -> 0 | G30: =G28+G29 -> 0 | H30: =H28+H29 -> 0
A31: Gastos | B31: j) Intereses de préstamos bancarios
B32: k) Intereses otros préstamos | D32: =+Hoja2!$E19 | E32: =+Hoja2!$E20 | F32: =+Hoja2!$E21 | G32: =+Hoja2!$E22 | H32: =+Hoja2!$E23
B33: l) Otros gastos financieros
B34: 4- Total gastos (j+k+l) | D34: =D31+D32+D33 -> #VALUE! | E34: =E31+E32+E33 -> #VALUE! | F34: =F31+F32+F33 -> #VALUE! | G34: =G31+G32+G33 -> #VALUE! | H34: =H31+H32+H33 -> #VALUE!
A35: B- RESULTADO FINANCIERO (3-4) | D35: =+D30-D34 -> #VALUE! | E35: =+E30-E34 -> #VALUE! | F35: =+F30-F34 -> #VALUE! | G35: =+G30-G34 -> #VALUE! | H35: =+H30-H34 -> #VALUE!
A36: RESULTADOS DEL EJERCICIO | D36: 1er Año | E36: 2º Año | F36: 3er Año | G36: 4º Año | H36: 5º Año
A37: RESULTADO ANTES DE IMPUESTOS (A+B) | D37: =+D26+D35 -> #VALUE! | E37: =+E26+E35 -> #VALUE! | F37: =+F26+F35 -> #VALUE! | G37: =+G26+G35 -> #VALUE! | H37: =+H26+H35 -> #VALUE!
A38: Impuesto de sociedades sobre beneficios (5) | D38: =D37*Cumplimentación!$C$25 -> #VALUE! | E38: =E37*Cumplimentación!$C$25 -> #VALUE! | F38: =F37*Cumplimentación!$C$25 -> #VALUE! | G38: =G37*Cumplimentación!$C$25 -> #VALUE! | H38: =H37*Cumplimentación!$C$25 -> #VALUE!
A39: RESULTADO DEL EJERCICIO: (A+B)-(5) | D39: =+D26+D35-D38 -> #VALUE! | E39: =+E26+E35-E38 -> #VALUE! | F39: =+F26+F35-F38 -> #VALUE! | G39: =+G26+G35-G38 -> #VALUE! | H39: =+H26+H35-H38 -> #VALUE!
